BEGIN:VCALENDAR
VERSION:2.0
PRODID:-//Connecticut&#039;s Old State House - ECPv6.15.20//NONSGML v1.0//EN
CALSCALE:GREGORIAN
METHOD:PUBLISH
X-ORIGINAL-URL:https://wp.cga.ct.gov/osh
X-WR-CALDESC:Events for Connecticut&#039;s Old State House
REFRESH-INTERVAL;VALUE=DURATION:PT1H
X-Robots-Tag:noindex
X-PUBLISHED-TTL:PT1H
BEGIN:VTIMEZONE
TZID:America/New_York
BEGIN:DAYLIGHT
TZOFFSETFROM:-0500
TZOFFSETTO:-0400
TZNAME:EDT
DTSTART:20210314T070000
END:DAYLIGHT
BEGIN:STANDARD
TZOFFSETFROM:-0400
TZOFFSETTO:-0500
TZNAME:EST
DTSTART:20211107T060000
END:STANDARD
BEGIN:DAYLIGHT
TZOFFSETFROM:-0500
TZOFFSETTO:-0400
TZNAME:EDT
DTSTART:20220313T070000
END:DAYLIGHT
BEGIN:STANDARD
TZOFFSETFROM:-0400
TZOFFSETTO:-0500
TZNAME:EST
DTSTART:20221106T060000
END:STANDARD
BEGIN:DAYLIGHT
TZOFFSETFROM:-0500
TZOFFSETTO:-0400
TZNAME:EDT
DTSTART:20230312T070000
END:DAYLIGHT
BEGIN:STANDARD
TZOFFSETFROM:-0400
TZOFFSETTO:-0500
TZNAME:EST
DTSTART:20231105T060000
END:STANDARD
END:VTIMEZONE
BEGIN:VEVENT
DTSTART;TZID=America/New_York:20220923T100000
DTEND;TZID=America/New_York:20220923T140000
DTSTAMP:20260421T042332
CREATED:20220510T174850Z
LAST-MODIFIED:20220812T114103Z
UID:6315-1663927200-1663941600@wp.cga.ct.gov
SUMMARY:Connecticut's Old State House Farmers Market
DESCRIPTION:Stop by Connecticut’s Old State House Farmers Market every Friday from 10am to 2pm between July 1st and October 28th . \nIn 1643\, the General Court of Connecticut established a weekly Market to be held in Hartford. Come shop local and visit the current Farmers Market\, established in 2011 with that original Market in mind. Our goal is to offer a variety of products from as many farmers and artisan vendors as possible. We are committed to offering a vibrant marketplace in downtown Hartford where local farmers and artisans can enjoy coming together with the community to share the best of what Connecticut has to offer. The Old State House Farmers Market runs from late spring through mid-fall\, ensuring that our patrons enjoy the ultimate in seasonal variety for many months of the year! \nNEW THIS YEAR: SNAP ACCEPTED\nFor the first time\, Connecticut’s Old State House Farmers Market will accept Supplemental Nutrition Assistance Program (SNAP) tokens. Simply bring your EBT card to the table with the sign that says “SNAP/EBT Accepted Here”. The Market Manager will swipe your card for the amount that you want. \nVISIT US\nConnecticut’s Old State House Farmers Market\, located in bustling and historic downtown Hartford\, provides local workers and city residents with access to farm fresh produce and the opportunity to experience a bit of country atmosphere right in the heart of the city! Featuring Connecticut Grown farmers\, crafters\, and lively music\, shoppers at the Farmers Market can feel good knowing that they are supporting local agriculture and helping to build the local economy. \nConnecticut’s Old State House Farmers Market is located at 800 Main Street in Hartford\, on the East brick plaza near the lawn\, within the wrought iron fence surrounding Connecticut’s Old State House. We are conveniently located on the city bus route and are within a few blocks of free DASH shuttle service stops.  Metered parking is available on nearby side streets\, and Connecticut’s Old State House will validate parking for the State House Square Garage at 55 Market Street\, which reduces your cost to a flat $5 fee when you exit the garage. \nWhile you’re here\, make a trip inside Connecticut’s Old State House. Visit our restored historic Senate and House chambers\, learn the stories of famous Connecticut residents\, discover Connecticut’s role in history and explore our unique Museum of Curiosities. Walk the halls\, hear the stories\, be inspired!  Connecticut’s Old State House is open from noon to 5:00 pm\, with the last admission at 4:00 pm. \n \n#farmersmarket 
URL:https://wp.cga.ct.gov/osh/calendar/connecticuts-old-state-house-farmers-market-13/
LOCATION:CT
END:VEVENT
BEGIN:VEVENT
DTSTART;TZID=America/New_York:20220923T120000
DTEND;TZID=America/New_York:20220923T130000
DTSTAMP:20260421T042332
CREATED:20220504T194935Z
LAST-MODIFIED:20220923T162535Z
UID:6067-1663934400-1663938000@wp.cga.ct.gov
SUMMARY:Summer Concert Series: The Meadows Brothers
DESCRIPTION:TODAY: The Meadows Brothers …  \nCome enjoy some homegrown\, folked up\, countrified\, rocknrolled roots music!   \nVisit The Meadows Brothers website \nHear a sample of The Meadows Brothers music \nJoin us for our annual FREE Summer Concert Series! Stop by every Friday at lunchtime to hear a different band play each week on the west side of Connecticut’s Old State House. Bring your lunch and enjoy the music! Concerts begin at noon and will also be live-streamed on our Facebook page and YouTube channel. \n#folk #country #summerconcertseries
URL:https://wp.cga.ct.gov/osh/calendar/summer-concert-series-meadows-brothers/
LOCATION:CT
END:VEVENT
END:VCALENDAR