BEGIN:VCALENDAR
VERSION:2.0
PRODID:-//Connecticut&#039;s Old State House - ECPv6.15.20//NONSGML v1.0//EN
CALSCALE:GREGORIAN
METHOD:PUBLISH
X-ORIGINAL-URL:https://wp.cga.ct.gov/osh
X-WR-CALDESC:Events for Connecticut&#039;s Old State House
REFRESH-INTERVAL;VALUE=DURATION:PT1H
X-Robots-Tag:noindex
X-PUBLISHED-TTL:PT1H
BEGIN:VTIMEZONE
TZID:America/New_York
BEGIN:DAYLIGHT
TZOFFSETFROM:-0500
TZOFFSETTO:-0400
TZNAME:EDT
DTSTART:20230312T070000
END:DAYLIGHT
BEGIN:STANDARD
TZOFFSETFROM:-0400
TZOFFSETTO:-0500
TZNAME:EST
DTSTART:20231105T060000
END:STANDARD
BEGIN:DAYLIGHT
TZOFFSETFROM:-0500
TZOFFSETTO:-0400
TZNAME:EDT
DTSTART:20240310T070000
END:DAYLIGHT
BEGIN:STANDARD
TZOFFSETFROM:-0400
TZOFFSETTO:-0500
TZNAME:EST
DTSTART:20241103T060000
END:STANDARD
BEGIN:DAYLIGHT
TZOFFSETFROM:-0500
TZOFFSETTO:-0400
TZNAME:EDT
DTSTART:20250309T070000
END:DAYLIGHT
BEGIN:STANDARD
TZOFFSETFROM:-0400
TZOFFSETTO:-0500
TZNAME:EST
DTSTART:20251102T060000
END:STANDARD
END:VTIMEZONE
BEGIN:VEVENT
DTSTART;TZID=America/New_York:20240813T120000
DTEND;TZID=America/New_York:20240813T130000
DTSTAMP:20260425T085654
CREATED:20240809T144042Z
LAST-MODIFIED:20240813T161026Z
UID:70115-1723550400-1723554000@wp.cga.ct.gov
SUMMARY:Summer Music Series Concert at CT's Old State House - Postponed
DESCRIPTION:Join us for our annual FREE Summer Concert Series! Stop by every Friday at lunchtime to hear a different band play each week on the west side patio of Connecticut’s Old State House. Bring your lunch and enjoy the music! \nConcerts begin at noon and will also be live-streamed on our Facebook page and YouTube channel. \nThank you to our friends from the Richard P. Garmany Fund at the Hartford Foundation for Public Giving\, and the Evelyn Preston Memorial Fund for their generous funding of the Summer Concert Series. \nUPCOMING CONCERTS: \n\n\n\nAugust 13: The Zach  \nAugust 16: The Bards of Gungywamp  \nAugust 23: The Bigfoot Diaries  \nAugust 30: Ali Kat and the Revelators  \nSeptember 6: Nekita Waller  \nSeptember 13: Cherry Pie Band  \nSeptember 20: Los Super GS  \nSeptember 27: Sean O’Reily  \nOct 4: Gift Horse  \nOctober 11: Projeto Batucada boa Eua\n\n\n\n\n  \n \n 
URL:https://wp.cga.ct.gov/osh/calendar/summer-music-series-concert-at-cts-old-state-house-postponed/
LOCATION:Connecticut’s Old State House\, 800 Main St\, Hartford\, CT\, United States
END:VEVENT
END:VCALENDAR