BEGIN:VCALENDAR
VERSION:2.0
PRODID:-//Connecticut&#039;s Old State House - ECPv6.15.20//NONSGML v1.0//EN
CALSCALE:GREGORIAN
METHOD:PUBLISH
X-ORIGINAL-URL:https://wp.cga.ct.gov/osh
X-WR-CALDESC:Events for Connecticut&#039;s Old State House
REFRESH-INTERVAL;VALUE=DURATION:PT1H
X-Robots-Tag:noindex
X-PUBLISHED-TTL:PT1H
BEGIN:VTIMEZONE
TZID:America/New_York
BEGIN:DAYLIGHT
TZOFFSETFROM:-0500
TZOFFSETTO:-0400
TZNAME:EDT
DTSTART:20230312T070000
END:DAYLIGHT
BEGIN:STANDARD
TZOFFSETFROM:-0400
TZOFFSETTO:-0500
TZNAME:EST
DTSTART:20231105T060000
END:STANDARD
BEGIN:DAYLIGHT
TZOFFSETFROM:-0500
TZOFFSETTO:-0400
TZNAME:EDT
DTSTART:20240310T070000
END:DAYLIGHT
BEGIN:STANDARD
TZOFFSETFROM:-0400
TZOFFSETTO:-0500
TZNAME:EST
DTSTART:20241103T060000
END:STANDARD
BEGIN:DAYLIGHT
TZOFFSETFROM:-0500
TZOFFSETTO:-0400
TZNAME:EDT
DTSTART:20250309T070000
END:DAYLIGHT
BEGIN:STANDARD
TZOFFSETFROM:-0400
TZOFFSETTO:-0500
TZNAME:EST
DTSTART:20251102T060000
END:STANDARD
END:VTIMEZONE
BEGIN:VEVENT
DTSTART;TZID=America/New_York:20240905T170000
DTEND;TZID=America/New_York:20240905T210000
DTSTAMP:20260425T085654
CREATED:20240905T002529Z
LAST-MODIFIED:20240906T002554Z
UID:70807-1725555600-1725570000@wp.cga.ct.gov
SUMMARY:Hartford Live Concert Featuring Max Creek
DESCRIPTION:City of Hartford and GoodWorks Entertainment are pleased to present: \n2024 Hartford Live \nMax CreekThursday\, September 5 \nThis concert is free. No tickets required. \nParking options here: https://hartford.com/parking/Visit https://hartfordlivect.com/ for more information \nABOUT THE BAND: \nMax Creek is an American rock band formedin Hartford\, Connecticut in 1971. A significant presence in the New Englandmusic scene\, Max Creek is known as a pioneering “jam band.”  Their first big show was at Arlo Guthrie’sMapleview Ballroom in Washington. They soon settled into a steady series ofshows at the Rocking Horse in Hartford when the social consciousness scene wastaking hold as Woodstock was still fresh in everyone’s minds. They went on to stylisticallyadopt the Country/Folk/Rock genre as their own and discovered that “jamming” –taking tunes into unplanned directions – was more fun than doing them the sameway every night. \nFor over fifty years they have regularlyperformed at various iconic venues and music festivals\, showcasing their liveperformances. Members of Max Creek have collaborated with and opened forrenowned acts such as Leon Russell\, The Allman Brothers Band\, Phish\, BruceHornsby\, The Band\, Talking Heads\, and Grateful Dead. For more information\, visit https://maxcreek.com/ \nABOUT HARTFORD LIVE: \nHartford Live is returning for 2024! The free concert series\, representing a multi-year partnership between the City of Hartford and GoodWorks Entertainment\, will bring a mix of nationally touring and local acts to Connecticut’s Old State House in Downtown Hartford. Hartford Live events will take place on six Thursday evenings from 5-9 pm throughout August and September. The shows are all free with no ticket required for entry. Concert-goers can expect a variety food trucks and the Hartford Live Beer Garden will offer samples and sales of local craft beer\, wine\, canned and other ready-to-drink cocktails! Be sure to follow @hartfordlive and @goodworkslive on social media for updates. \nUPCOMING CONCERTS: \n\nEggy – Thursday\, September 12 \nArtist TBA – Thursday\, September 19 
URL:https://wp.cga.ct.gov/osh/calendar/hartford-live-concert-featuring-max-creek-2/
LOCATION:Connecticut’s Old State House\, 800 Main St\, Hartford\, CT\, United States
END:VEVENT
END:VCALENDAR